BEGIN:VCALENDAR
VERSION:2.0
PRODID:-//Carnaby Rise Primary School - ECPv6.15.14//NONSGML v1.0//EN
CALSCALE:GREGORIAN
METHOD:PUBLISH
X-ORIGINAL-URL:https://carnabyriseps.wa.edu.au
X-WR-CALDESC:Events for Carnaby Rise Primary School
REFRESH-INTERVAL;VALUE=DURATION:PT1H
X-Robots-Tag:noindex
X-PUBLISHED-TTL:PT1H
BEGIN:VTIMEZONE
TZID:Australia/Perth
BEGIN:STANDARD
TZOFFSETFROM:+0800
TZOFFSETTO:+0800
TZNAME:AWST
DTSTART:20230101T000000
END:STANDARD
END:VTIMEZONE
BEGIN:VEVENT
DTSTART;VALUE=DATE:20241213
DTEND;VALUE=DATE:20250205
DTSTAMP:20260422T094024
CREATED:20241115T092616Z
LAST-MODIFIED:20241115T092616Z
UID:2092-1734048000-1738713599@carnabyriseps.wa.edu.au
SUMMARY:Term break and holidays
DESCRIPTION:
URL:https://carnabyriseps.wa.edu.au/event/term-break-and-holidays/
CATEGORIES:Term breaks
END:VEVENT
BEGIN:VEVENT
DTSTART;VALUE=DATE:20250205
DTEND;VALUE=DATE:20250206
DTSTAMP:20260422T094024
CREATED:20241115T092807Z
LAST-MODIFIED:20241115T092807Z
UID:2094-1738713600-1738799999@carnabyriseps.wa.edu.au
SUMMARY:Term 1 begins
DESCRIPTION:
URL:https://carnabyriseps.wa.edu.au/event/term-1-begins/
CATEGORIES:Term Dates
END:VEVENT
BEGIN:VEVENT
DTSTART;VALUE=DATE:20250226
DTEND;VALUE=DATE:20250227
DTSTAMP:20260422T094024
CREATED:20250210T084024Z
LAST-MODIFIED:20250210T084024Z
UID:2115-1740528000-1740614399@carnabyriseps.wa.edu.au
SUMMARY:Assembly 3-6 Host Year 6 RM 15
DESCRIPTION:
URL:https://carnabyriseps.wa.edu.au/event/assembly-3-6-host-year-6-rm-15/
CATEGORIES:Assembly
END:VEVENT
END:VCALENDAR