BEGIN:VCALENDAR
VERSION:2.0
PRODID:-//Carnaby Rise Primary School - ECPv6.15.14//NONSGML v1.0//EN
CALSCALE:GREGORIAN
METHOD:PUBLISH
X-ORIGINAL-URL:https://carnabyriseps.wa.edu.au
X-WR-CALDESC:Events for Carnaby Rise Primary School
REFRESH-INTERVAL;VALUE=DURATION:PT1H
X-Robots-Tag:noindex
X-PUBLISHED-TTL:PT1H
BEGIN:VTIMEZONE
TZID:Australia/Perth
BEGIN:STANDARD
TZOFFSETFROM:+0800
TZOFFSETTO:+0800
TZNAME:AWST
DTSTART:20230101T000000
END:STANDARD
END:VTIMEZONE
BEGIN:VEVENT
DTSTART;VALUE=DATE:20240902
DTEND;VALUE=DATE:20240903
DTSTAMP:20260422T192201
CREATED:20240717T053349Z
LAST-MODIFIED:20240717T053349Z
UID:1972-1725235200-1725321599@carnabyriseps.wa.edu.au
SUMMARY:Cluster Muster
DESCRIPTION:
URL:https://carnabyriseps.wa.edu.au/event/cluster-muster/
CATEGORIES:School Events
END:VEVENT
BEGIN:VEVENT
DTSTART;VALUE=DATE:20240904
DTEND;VALUE=DATE:20240905
DTSTAMP:20260422T192201
CREATED:20240717T053415Z
LAST-MODIFIED:20240717T053415Z
UID:1974-1725408000-1725494399@carnabyriseps.wa.edu.au
SUMMARY:Cross Country
DESCRIPTION:
URL:https://carnabyriseps.wa.edu.au/event/cross-country-2/
CATEGORIES:School Events
END:VEVENT
BEGIN:VEVENT
DTSTART;VALUE=DATE:20240910
DTEND;VALUE=DATE:20240911
DTSTAMP:20260422T192201
CREATED:20240717T053444Z
LAST-MODIFIED:20240717T053444Z
UID:1976-1725926400-1726012799@carnabyriseps.wa.edu.au
SUMMARY:Interschool Throws & Jumps
DESCRIPTION:
URL:https://carnabyriseps.wa.edu.au/event/interschool-throws-jumps/
CATEGORIES:School Events
END:VEVENT
BEGIN:VEVENT
DTSTART;VALUE=DATE:20240911
DTEND;VALUE=DATE:20240912
DTSTAMP:20260422T192201
CREATED:20240717T053516Z
LAST-MODIFIED:20240717T053516Z
UID:1978-1726012800-1726099199@carnabyriseps.wa.edu.au
SUMMARY:3-6 Assembly (Host Yr 4/5 RM 19)
DESCRIPTION:
URL:https://carnabyriseps.wa.edu.au/event/3-6-assembly-host-yr-4-5-rm-19/
CATEGORIES:Assembly
END:VEVENT
BEGIN:VEVENT
DTSTART;VALUE=DATE:20240912
DTEND;VALUE=DATE:20240913
DTSTAMP:20260422T192201
CREATED:20240717T053542Z
LAST-MODIFIED:20240717T053542Z
UID:1980-1726099200-1726185599@carnabyriseps.wa.edu.au
SUMMARY:Interschool Carnival
DESCRIPTION:
URL:https://carnabyriseps.wa.edu.au/event/interschool-carnival/
CATEGORIES:School Events
END:VEVENT
BEGIN:VEVENT
DTSTART;VALUE=DATE:20240918
DTEND;VALUE=DATE:20240919
DTSTAMP:20260422T192201
CREATED:20240717T053605Z
LAST-MODIFIED:20240717T053605Z
UID:1982-1726617600-1726703999@carnabyriseps.wa.edu.au
SUMMARY:K-2 Assembly (Host Yr 2 RM 6)
DESCRIPTION:
URL:https://carnabyriseps.wa.edu.au/event/k-2-assembly-host-yr-2-rm-6/
CATEGORIES:Assembly
END:VEVENT
BEGIN:VEVENT
DTSTART;VALUE=DATE:20240920
DTEND;VALUE=DATE:20240921
DTSTAMP:20260422T192201
CREATED:20240717T053643Z
LAST-MODIFIED:20240717T053643Z
UID:1984-1726790400-1726876799@carnabyriseps.wa.edu.au
SUMMARY:Free Dress Day/ Crazy Sock Day
DESCRIPTION:
URL:https://carnabyriseps.wa.edu.au/event/free-dress-day-crazy-sock-day/
CATEGORIES:School Events
END:VEVENT
END:VCALENDAR