BEGIN:VCALENDAR
VERSION:2.0
PRODID:-//Carnaby Rise Primary School - ECPv6.15.14//NONSGML v1.0//EN
CALSCALE:GREGORIAN
METHOD:PUBLISH
X-ORIGINAL-URL:https://carnabyriseps.wa.edu.au
X-WR-CALDESC:Events for Carnaby Rise Primary School
REFRESH-INTERVAL;VALUE=DURATION:PT1H
X-Robots-Tag:noindex
X-PUBLISHED-TTL:PT1H
BEGIN:VTIMEZONE
TZID:Australia/Perth
BEGIN:STANDARD
TZOFFSETFROM:+0800
TZOFFSETTO:+0800
TZNAME:AWST
DTSTART:20230101T000000
END:STANDARD
END:VTIMEZONE
BEGIN:VEVENT
DTSTART;VALUE=DATE:20240603
DTEND;VALUE=DATE:20240604
DTSTAMP:20260423T001148
CREATED:20240322T000040Z
LAST-MODIFIED:20240328T010844Z
UID:1876-1717372800-1717459199@carnabyriseps.wa.edu.au
SUMMARY:WA Day Public Holiday
DESCRIPTION:
URL:https://carnabyriseps.wa.edu.au/event/wa-day-public-holiday/
CATEGORIES:Public Holidays
END:VEVENT
BEGIN:VEVENT
DTSTART;VALUE=DATE:20240604
DTEND;VALUE=DATE:20240608
DTSTAMP:20260423T001148
CREATED:20240322T000132Z
LAST-MODIFIED:20240322T000132Z
UID:1878-1717459200-1717804799@carnabyriseps.wa.edu.au
SUMMARY:NAIDOC Week
DESCRIPTION:
URL:https://carnabyriseps.wa.edu.au/event/naidoc-week/
CATEGORIES:School Events
END:VEVENT
BEGIN:VEVENT
DTSTART;VALUE=DATE:20240605
DTEND;VALUE=DATE:20240606
DTSTAMP:20260423T001148
CREATED:20240322T000237Z
LAST-MODIFIED:20240322T000237Z
UID:1880-1717545600-1717631999@carnabyriseps.wa.edu.au
SUMMARY:3-6 Assembly (Host Yr4 RM 22)
DESCRIPTION:
URL:https://carnabyriseps.wa.edu.au/event/3-6-assembly-host-yr4-rm-22/
CATEGORIES:Assembly
END:VEVENT
BEGIN:VEVENT
DTSTART;VALUE=DATE:20240611
DTEND;VALUE=DATE:20240612
DTSTAMP:20260423T001148
CREATED:20240322T000307Z
LAST-MODIFIED:20240322T000307Z
UID:1882-1718064000-1718150399@carnabyriseps.wa.edu.au
SUMMARY:Story Dog Fundraiser
DESCRIPTION:
URL:https://carnabyriseps.wa.edu.au/event/story-dog-fundraiser/
CATEGORIES:School Events
END:VEVENT
BEGIN:VEVENT
DTSTART;VALUE=DATE:20240612
DTEND;VALUE=DATE:20240613
DTSTAMP:20260423T001148
CREATED:20240322T000343Z
LAST-MODIFIED:20240322T000343Z
UID:1884-1718150400-1718236799@carnabyriseps.wa.edu.au
SUMMARY:K-2 Assembly (Host Yr 1 RM 5)
DESCRIPTION:
URL:https://carnabyriseps.wa.edu.au/event/k-2-assembly-host-yr-1-rm-5/
CATEGORIES:Assembly
END:VEVENT
BEGIN:VEVENT
DTSTART;VALUE=DATE:20240619
DTEND;VALUE=DATE:20240620
DTSTAMP:20260423T001148
CREATED:20240322T000430Z
LAST-MODIFIED:20240328T010917Z
UID:1886-1718755200-1718841599@carnabyriseps.wa.edu.au
SUMMARY:3-6 Assembly (Host Yr 3 RM 1)
DESCRIPTION:
URL:https://carnabyriseps.wa.edu.au/event/3-6-assembly-host-yr-4-rm-1/
CATEGORIES:Assembly
END:VEVENT
BEGIN:VEVENT
DTSTART;VALUE=DATE:20240624
DTEND;VALUE=DATE:20240625
DTSTAMP:20260423T001148
CREATED:20240322T000503Z
LAST-MODIFIED:20240322T000503Z
UID:1888-1719187200-1719273599@carnabyriseps.wa.edu.au
SUMMARY:Yr 4 Excursion – Fremantle Prison
DESCRIPTION:
URL:https://carnabyriseps.wa.edu.au/event/yr-4-excursion-fremantle-prison/
CATEGORIES:Incursions/Excursion
END:VEVENT
BEGIN:VEVENT
DTSTART;VALUE=DATE:20240625
DTEND;VALUE=DATE:20240626
DTSTAMP:20260423T001148
CREATED:20240322T000544Z
LAST-MODIFIED:20240322T000544Z
UID:1890-1719273600-1719359999@carnabyriseps.wa.edu.au
SUMMARY:Lightening Carnival Reserve Date
DESCRIPTION:
URL:https://carnabyriseps.wa.edu.au/event/lightening-carnival-reserve-date/
CATEGORIES:School Events
END:VEVENT
BEGIN:VEVENT
DTSTART;VALUE=DATE:20240626
DTEND;VALUE=DATE:20240627
DTSTAMP:20260423T001148
CREATED:20240322T000621Z
LAST-MODIFIED:20240322T000621Z
UID:1892-1719360000-1719446399@carnabyriseps.wa.edu.au
SUMMARY:K-2 Assembly (Host PP4)
DESCRIPTION:
URL:https://carnabyriseps.wa.edu.au/event/k-2-assembly-host-pp4/
CATEGORIES:Assembly
END:VEVENT
BEGIN:VEVENT
DTSTART;VALUE=DATE:20240628
DTEND;VALUE=DATE:20240629
DTSTAMP:20260423T001148
CREATED:20240322T000834Z
LAST-MODIFIED:20240322T000834Z
UID:1894-1719532800-1719619199@carnabyriseps.wa.edu.au
SUMMARY:End of Term Two
DESCRIPTION:
URL:https://carnabyriseps.wa.edu.au/event/end-of-term-two/
CATEGORIES:Term Dates
END:VEVENT
END:VCALENDAR