BEGIN:VCALENDAR
VERSION:2.0
PRODID:-//Carnaby Rise Primary School - ECPv6.15.14//NONSGML v1.0//EN
CALSCALE:GREGORIAN
METHOD:PUBLISH
X-WR-CALNAME:Carnaby Rise Primary School
X-ORIGINAL-URL:https://carnabyriseps.wa.edu.au
X-WR-CALDESC:Events for Carnaby Rise Primary School
REFRESH-INTERVAL;VALUE=DURATION:PT1H
X-Robots-Tag:noindex
X-PUBLISHED-TTL:PT1H
BEGIN:VTIMEZONE
TZID:Australia/Perth
BEGIN:STANDARD
TZOFFSETFROM:+0800
TZOFFSETTO:+0800
TZNAME:AWST
DTSTART:20220101T000000
END:STANDARD
END:VTIMEZONE
BEGIN:VEVENT
DTSTART;VALUE=DATE:20231130
DTEND;VALUE=DATE:20231202
DTSTAMP:20260423T095424
CREATED:20230921T103009Z
LAST-MODIFIED:20230921T103021Z
UID:1478-1701302400-1701475199@carnabyriseps.wa.edu.au
SUMMARY:Year 6 Transition Day for Ashdale Secondary Students
DESCRIPTION:
URL:https://carnabyriseps.wa.edu.au/event/year-6-transition-day-for-ashdale-secondary-students/
CATEGORIES:Incursions/Excursion
END:VEVENT
BEGIN:VEVENT
DTSTART;VALUE=DATE:20231206
DTEND;VALUE=DATE:20231207
DTSTAMP:20260423T095424
CREATED:20230921T103138Z
LAST-MODIFIED:20230921T103138Z
UID:1482-1701820800-1701907199@carnabyriseps.wa.edu.au
SUMMARY:Yarning Circle Official Opening\, Art Show\, Carols & Open Night
DESCRIPTION:
URL:https://carnabyriseps.wa.edu.au/event/yarning-circle-official-opening-art-show-carols-open-night/
CATEGORIES:School Events
END:VEVENT
BEGIN:VEVENT
DTSTART;VALUE=DATE:20231206
DTEND;VALUE=DATE:20231207
DTSTAMP:20260423T095424
CREATED:20230921T103207Z
LAST-MODIFIED:20230921T103207Z
UID:1484-1701820800-1701907199@carnabyriseps.wa.edu.au
SUMMARY:Choir Performance @ Bunnings Wangara
DESCRIPTION:
URL:https://carnabyriseps.wa.edu.au/event/choir-performance-bunnings-wangara/
CATEGORIES:School Events
END:VEVENT
BEGIN:VEVENT
DTSTART;VALUE=DATE:20231206
DTEND;VALUE=DATE:20231207
DTSTAMP:20260423T095424
CREATED:20231020T043909Z
LAST-MODIFIED:20231020T043909Z
UID:1538-1701820800-1701907199@carnabyriseps.wa.edu.au
SUMMARY:School Reports published on Connect
DESCRIPTION:
URL:https://carnabyriseps.wa.edu.au/event/school-reports-published-on-connect/
CATEGORIES:School Events
END:VEVENT
BEGIN:VEVENT
DTSTART;TZID=Australia/Perth:20231206T135500
DTEND;TZID=Australia/Perth:20231206T150000
DTSTAMP:20260423T095424
CREATED:20230921T103106Z
LAST-MODIFIED:20230921T103106Z
UID:1480-1701870900-1701874800@carnabyriseps.wa.edu.au
SUMMARY:Year 3-6 Assembly\, Hosted by Yr 3 – Rm 5 – 1.55pm
DESCRIPTION:
URL:https://carnabyriseps.wa.edu.au/event/year-3-6-assembly-hosted-by-yr-3-rm-5-1-55pm/
CATEGORIES:Assembly
END:VEVENT
BEGIN:VEVENT
DTSTART;TZID=Australia/Perth:20231208T080000
DTEND;TZID=Australia/Perth:20231208T130000
DTSTAMP:20260423T095424
CREATED:20230921T103244Z
LAST-MODIFIED:20230921T103244Z
UID:1486-1702022400-1702040400@carnabyriseps.wa.edu.au
SUMMARY:Year 6 Graduation (Morning)
DESCRIPTION:
URL:https://carnabyriseps.wa.edu.au/event/year-6-graduation-morning/
CATEGORIES:School Events
END:VEVENT
BEGIN:VEVENT
DTSTART;VALUE=DATE:20231211
DTEND;VALUE=DATE:20231212
DTSTAMP:20260423T095424
CREATED:20230921T103322Z
LAST-MODIFIED:20230921T103322Z
UID:1488-1702252800-1702339199@carnabyriseps.wa.edu.au
SUMMARY:Book Awards
DESCRIPTION:
URL:https://carnabyriseps.wa.edu.au/event/book-awards/
CATEGORIES:School Events
END:VEVENT
BEGIN:VEVENT
DTSTART;VALUE=DATE:20231214
DTEND;VALUE=DATE:20231215
DTSTAMP:20260423T095424
CREATED:20230921T103349Z
LAST-MODIFIED:20230921T103349Z
UID:1490-1702512000-1702598399@carnabyriseps.wa.edu.au
SUMMARY:Last Day of School
DESCRIPTION:
URL:https://carnabyriseps.wa.edu.au/event/last-day-of-school/
CATEGORIES:School Events,Term Dates
END:VEVENT
BEGIN:VEVENT
DTSTART;VALUE=DATE:20231229
DTEND;VALUE=DATE:20231231
DTSTAMP:20260423T095424
CREATED:20231219T111111Z
LAST-MODIFIED:20231219T111111Z
UID:1736-1703808000-1703980799@carnabyriseps.wa.edu.au
SUMMARY:School Development Days
DESCRIPTION:
URL:https://carnabyriseps.wa.edu.au/event/school-development-days/
CATEGORIES:School Development Days
END:VEVENT
END:VCALENDAR