BEGIN:VCALENDAR
VERSION:2.0
PRODID:-//Carnaby Rise Primary School - ECPv6.15.14//NONSGML v1.0//EN
CALSCALE:GREGORIAN
METHOD:PUBLISH
X-WR-CALNAME:Carnaby Rise Primary School
X-ORIGINAL-URL:https://carnabyriseps.wa.edu.au
X-WR-CALDESC:Events for Carnaby Rise Primary School
REFRESH-INTERVAL;VALUE=DURATION:PT1H
X-Robots-Tag:noindex
X-PUBLISHED-TTL:PT1H
BEGIN:VTIMEZONE
TZID:Australia/Perth
BEGIN:STANDARD
TZOFFSETFROM:+0800
TZOFFSETTO:+0800
TZNAME:AWST
DTSTART:20220101T000000
END:STANDARD
END:VTIMEZONE
BEGIN:VEVENT
DTSTART;VALUE=DATE:20250205
DTEND;VALUE=DATE:20250206
DTSTAMP:20260425T064154
CREATED:20241115T092807Z
LAST-MODIFIED:20241115T092807Z
UID:2094-1738713600-1738799999@carnabyriseps.wa.edu.au
SUMMARY:Term 1 begins
DESCRIPTION:
URL:https://carnabyriseps.wa.edu.au/event/term-1-begins/
CATEGORIES:Term Dates
END:VEVENT
BEGIN:VEVENT
DTSTART;VALUE=DATE:20241212
DTEND;VALUE=DATE:20241213
DTSTAMP:20260425T064154
CREATED:20241115T092529Z
LAST-MODIFIED:20241115T092529Z
UID:2090-1733961600-1734047999@carnabyriseps.wa.edu.au
SUMMARY:End of Term 4
DESCRIPTION:
URL:https://carnabyriseps.wa.edu.au/event/end-of-term-4/
CATEGORIES:Term Dates
END:VEVENT
BEGIN:VEVENT
DTSTART;VALUE=DATE:20240628
DTEND;VALUE=DATE:20240629
DTSTAMP:20260425T064154
CREATED:20240322T000834Z
LAST-MODIFIED:20240322T000834Z
UID:1894-1719532800-1719619199@carnabyriseps.wa.edu.au
SUMMARY:End of Term Two
DESCRIPTION:
URL:https://carnabyriseps.wa.edu.au/event/end-of-term-two/
CATEGORIES:Term Dates
END:VEVENT
BEGIN:VEVENT
DTSTART;VALUE=DATE:20240328
DTEND;VALUE=DATE:20240329
DTSTAMP:20260425T064154
CREATED:20240207T113416Z
LAST-MODIFIED:20240207T113416Z
UID:1820-1711584000-1711670399@carnabyriseps.wa.edu.au
SUMMARY:End of Term 1
DESCRIPTION:
URL:https://carnabyriseps.wa.edu.au/event/end-of-term-1/
CATEGORIES:Term Dates
END:VEVENT
BEGIN:VEVENT
DTSTART;VALUE=DATE:20240131
DTEND;VALUE=DATE:20240201
DTSTAMP:20260425T064154
CREATED:20231219T111152Z
LAST-MODIFIED:20231219T111152Z
UID:1738-1706659200-1706745599@carnabyriseps.wa.edu.au
SUMMARY:Term 1 commences - Students return to school today
DESCRIPTION:
URL:https://carnabyriseps.wa.edu.au/event/term-1-commences-students-return-to-school-today/
CATEGORIES:Term Dates
END:VEVENT
BEGIN:VEVENT
DTSTART;VALUE=DATE:20231214
DTEND;VALUE=DATE:20231215
DTSTAMP:20260425T064154
CREATED:20230921T103349Z
LAST-MODIFIED:20230921T103349Z
UID:1490-1702512000-1702598399@carnabyriseps.wa.edu.au
SUMMARY:Last Day of School
DESCRIPTION:
URL:https://carnabyriseps.wa.edu.au/event/last-day-of-school/
CATEGORIES:School Events,Term Dates
END:VEVENT
BEGIN:VEVENT
DTSTART;VALUE=DATE:20231020
DTEND;VALUE=DATE:20231021
DTSTAMP:20260425T064154
CREATED:20230921T102201Z
LAST-MODIFIED:20230921T102201Z
UID:1446-1697760000-1697846399@carnabyriseps.wa.edu.au
SUMMARY:School Development Day No students
DESCRIPTION:
URL:https://carnabyriseps.wa.edu.au/event/school-development-day-no-students/
CATEGORIES:Term Dates
END:VEVENT
BEGIN:VEVENT
DTSTART;VALUE=DATE:20230718
DTEND;VALUE=DATE:20230719
DTSTAMP:20260425T064154
CREATED:20230524T062857Z
LAST-MODIFIED:20230524T062912Z
UID:868-1689638400-1689724799@carnabyriseps.wa.edu.au
SUMMARY:1st day of Term 3 - Students return to school today
DESCRIPTION:
URL:https://carnabyriseps.wa.edu.au/event/1st-day-of-term-3/
CATEGORIES:Term Dates
END:VEVENT
BEGIN:VEVENT
DTSTART;VALUE=DATE:20230630
DTEND;VALUE=DATE:20230701
DTSTAMP:20260425T064154
CREATED:20230509T024005Z
LAST-MODIFIED:20230509T024005Z
UID:750-1688083200-1688169599@carnabyriseps.wa.edu.au
SUMMARY:End of Term 2
DESCRIPTION:
URL:https://carnabyriseps.wa.edu.au/event/end-of-term-2/
CATEGORIES:Term Dates
END:VEVENT
END:VCALENDAR