BEGIN:VCALENDAR
VERSION:2.0
PRODID:-//Carnaby Rise Primary School - ECPv6.15.14//NONSGML v1.0//EN
CALSCALE:GREGORIAN
METHOD:PUBLISH
X-WR-CALNAME:Carnaby Rise Primary School
X-ORIGINAL-URL:https://carnabyriseps.wa.edu.au
X-WR-CALDESC:Events for Carnaby Rise Primary School
REFRESH-INTERVAL;VALUE=DURATION:PT1H
X-Robots-Tag:noindex
X-PUBLISHED-TTL:PT1H
BEGIN:VTIMEZONE
TZID:Australia/Perth
BEGIN:STANDARD
TZOFFSETFROM:+0800
TZOFFSETTO:+0800
TZNAME:AWST
DTSTART:20220101T000000
END:STANDARD
END:VTIMEZONE
BEGIN:VEVENT
DTSTART;VALUE=DATE:20250602
DTEND;VALUE=DATE:20250603
DTSTAMP:20260421T090505
CREATED:20250210T085543Z
LAST-MODIFIED:20250210T085543Z
UID:2166-1748822400-1748908799@carnabyriseps.wa.edu.au
SUMMARY:Public Holiday
DESCRIPTION:
URL:https://carnabyriseps.wa.edu.au/event/public-holiday-2/
CATEGORIES:Public Holidays
END:VEVENT
BEGIN:VEVENT
DTSTART;VALUE=DATE:20250303
DTEND;VALUE=DATE:20250304
DTSTAMP:20260421T090505
CREATED:20250210T083846Z
LAST-MODIFIED:20250210T083846Z
UID:2111-1740960000-1741046399@carnabyriseps.wa.edu.au
SUMMARY:Public Holiday
DESCRIPTION:
URL:https://carnabyriseps.wa.edu.au/event/public-holiday/
CATEGORIES:Public Holidays
END:VEVENT
BEGIN:VEVENT
DTSTART;VALUE=DATE:20240603
DTEND;VALUE=DATE:20240604
DTSTAMP:20260421T090505
CREATED:20240322T000040Z
LAST-MODIFIED:20240328T010844Z
UID:1876-1717372800-1717459199@carnabyriseps.wa.edu.au
SUMMARY:WA Day Public Holiday
DESCRIPTION:
URL:https://carnabyriseps.wa.edu.au/event/wa-day-public-holiday/
CATEGORIES:Public Holidays
END:VEVENT
BEGIN:VEVENT
DTSTART;VALUE=DATE:20240425
DTEND;VALUE=DATE:20240426
DTSTAMP:20260421T090505
CREATED:20240321T135731Z
LAST-MODIFIED:20240321T135731Z
UID:1852-1714003200-1714089599@carnabyriseps.wa.edu.au
SUMMARY:Anzac Day Public Holiday
DESCRIPTION:
URL:https://carnabyriseps.wa.edu.au/event/anzac-day-public-holiday/
CATEGORIES:Public Holidays
END:VEVENT
BEGIN:VEVENT
DTSTART;VALUE=DATE:20240329
DTEND;VALUE=DATE:20240330
DTSTAMP:20260421T090505
CREATED:20240207T113814Z
LAST-MODIFIED:20240207T113814Z
UID:1822-1711670400-1711756799@carnabyriseps.wa.edu.au
SUMMARY:Public Holiday - Good Friday
DESCRIPTION:
URL:https://carnabyriseps.wa.edu.au/event/public-holiday-good-friday/
CATEGORIES:Public Holidays
END:VEVENT
BEGIN:VEVENT
DTSTART;VALUE=DATE:20240304
DTEND;VALUE=DATE:20240305
DTSTAMP:20260421T090505
CREATED:20240207T113903Z
LAST-MODIFIED:20240207T113903Z
UID:1824-1709510400-1709596799@carnabyriseps.wa.edu.au
SUMMARY:Public Holiday - Labour Day
DESCRIPTION:
URL:https://carnabyriseps.wa.edu.au/event/public-holiday-labour-day/
CATEGORIES:Public Holidays
END:VEVENT
BEGIN:VEVENT
DTSTART;VALUE=DATE:20230605
DTEND;VALUE=DATE:20230606
DTSTAMP:20260421T090505
CREATED:20230509T024044Z
LAST-MODIFIED:20230509T024044Z
UID:752-1685923200-1686009599@carnabyriseps.wa.edu.au
SUMMARY:WA Day
DESCRIPTION:
URL:https://carnabyriseps.wa.edu.au/event/wa-day/
CATEGORIES:Public Holidays
END:VEVENT
END:VCALENDAR