BEGIN:VCALENDAR
VERSION:2.0
PRODID:-//Carnaby Rise Primary School - ECPv6.15.14//NONSGML v1.0//EN
CALSCALE:GREGORIAN
METHOD:PUBLISH
X-ORIGINAL-URL:https://carnabyriseps.wa.edu.au
X-WR-CALDESC:Events for Carnaby Rise Primary School
REFRESH-INTERVAL;VALUE=DURATION:PT1H
X-Robots-Tag:noindex
X-PUBLISHED-TTL:PT1H
BEGIN:VTIMEZONE
TZID:Australia/Perth
BEGIN:STANDARD
TZOFFSETFROM:+0800
TZOFFSETTO:+0800
TZNAME:AWST
DTSTART:20240101T000000
END:STANDARD
END:VTIMEZONE
BEGIN:VEVENT
DTSTART;TZID=Australia/Perth:20250829T094500
DTEND;TZID=Australia/Perth:20250829T114500
DTSTAMP:20260420T224410
CREATED:20250620T043349Z
LAST-MODIFIED:20250620T043349Z
UID:2287-1756460700-1756467900@carnabyriseps.wa.edu.au
SUMMARY:Mass Choir Festival Rehearsal
DESCRIPTION:9.45am – 11.45am
URL:https://carnabyriseps.wa.edu.au/event/mass-choir-festival-rehearsal/
CATEGORIES:School Events
END:VEVENT
END:VCALENDAR