BEGIN:VCALENDAR
VERSION:2.0
PRODID:-//Carnaby Rise Primary School - ECPv6.15.14//NONSGML v1.0//EN
CALSCALE:GREGORIAN
METHOD:PUBLISH
X-ORIGINAL-URL:https://carnabyriseps.wa.edu.au
X-WR-CALDESC:Events for Carnaby Rise Primary School
REFRESH-INTERVAL;VALUE=DURATION:PT1H
X-Robots-Tag:noindex
X-PUBLISHED-TTL:PT1H
BEGIN:VTIMEZONE
TZID:Australia/Perth
BEGIN:STANDARD
TZOFFSETFROM:+0800
TZOFFSETTO:+0800
TZNAME:AWST
DTSTART:20240101T000000
END:STANDARD
END:VTIMEZONE
BEGIN:VEVENT
DTSTART;VALUE=DATE:20250804
DTEND;VALUE=DATE:20250805
DTSTAMP:20260420T221545
CREATED:20250210T092210Z
LAST-MODIFIED:20250210T092210Z
UID:2184-1754265600-1754351999@carnabyriseps.wa.edu.au
SUMMARY:Jumps & Throws / Interschool Cross Country
DESCRIPTION:
URL:https://carnabyriseps.wa.edu.au/event/jumps-throws-interschool-cross-country/
CATEGORIES:School Events
END:VEVENT
BEGIN:VEVENT
DTSTART;VALUE=DATE:20250804
DTEND;VALUE=DATE:20250807
DTSTAMP:20260420T221545
CREATED:20250407T095307Z
LAST-MODIFIED:20250407T095307Z
UID:2247-1754265600-1754524799@carnabyriseps.wa.edu.au
SUMMARY:Year 4 PEAC testing
DESCRIPTION:
URL:https://carnabyriseps.wa.edu.au/event/year-4-peac-testing/
CATEGORIES:School Events
END:VEVENT
END:VCALENDAR