BEGIN:VCALENDAR
VERSION:2.0
PRODID:-//Carnaby Rise Primary School - ECPv6.15.14//NONSGML v1.0//EN
CALSCALE:GREGORIAN
METHOD:PUBLISH
X-ORIGINAL-URL:https://carnabyriseps.wa.edu.au
X-WR-CALDESC:Events for Carnaby Rise Primary School
REFRESH-INTERVAL;VALUE=DURATION:PT1H
X-Robots-Tag:noindex
X-PUBLISHED-TTL:PT1H
BEGIN:VTIMEZONE
TZID:Australia/Perth
BEGIN:STANDARD
TZOFFSETFROM:+0800
TZOFFSETTO:+0800
TZNAME:AWST
DTSTART:20240101T000000
END:STANDARD
END:VTIMEZONE
BEGIN:VEVENT
DTSTART;VALUE=DATE:20250404
DTEND;VALUE=DATE:20250405
DTSTAMP:20260422T080235
CREATED:20250210T084931Z
LAST-MODIFIED:20250210T084931Z
UID:2146-1743724800-1743811199@carnabyriseps.wa.edu.au
SUMMARY:Anzac Day ½ day school (Early Close 12PM)
DESCRIPTION:
URL:https://carnabyriseps.wa.edu.au/event/anzac-day-%c2%bd-day-school-early-close-12pm/
CATEGORIES:School Events
END:VEVENT
BEGIN:VEVENT
DTSTART;VALUE=DATE:20250404
DTEND;VALUE=DATE:20250405
DTSTAMP:20260422T080235
CREATED:20250210T085004Z
LAST-MODIFIED:20250210T085004Z
UID:2148-1743724800-1743811199@carnabyriseps.wa.edu.au
SUMMARY:Anzac Day Dawn Service /Breakfast
DESCRIPTION:
URL:https://carnabyriseps.wa.edu.au/event/anzac-day-dawn-service-breakfast/
CATEGORIES:School Events
END:VEVENT
END:VCALENDAR