BEGIN:VCALENDAR
VERSION:2.0
PRODID:-//Carnaby Rise Primary School - ECPv6.15.14//NONSGML v1.0//EN
CALSCALE:GREGORIAN
METHOD:PUBLISH
X-ORIGINAL-URL:https://carnabyriseps.wa.edu.au
X-WR-CALDESC:Events for Carnaby Rise Primary School
REFRESH-INTERVAL;VALUE=DURATION:PT1H
X-Robots-Tag:noindex
X-PUBLISHED-TTL:PT1H
BEGIN:VTIMEZONE
TZID:Australia/Perth
BEGIN:STANDARD
TZOFFSETFROM:+0800
TZOFFSETTO:+0800
TZNAME:AWST
DTSTART:20230101T000000
END:STANDARD
END:VTIMEZONE
BEGIN:VEVENT
DTSTART;VALUE=DATE:20240911
DTEND;VALUE=DATE:20240912
DTSTAMP:20260422T205528
CREATED:20240717T053516Z
LAST-MODIFIED:20240717T053516Z
UID:1978-1726012800-1726099199@carnabyriseps.wa.edu.au
SUMMARY:3-6 Assembly (Host Yr 4/5 RM 19)
DESCRIPTION:
URL:https://carnabyriseps.wa.edu.au/event/3-6-assembly-host-yr-4-5-rm-19/
CATEGORIES:Assembly
END:VEVENT
END:VCALENDAR