BEGIN:VCALENDAR
VERSION:2.0
PRODID:-//Carnaby Rise Primary School - ECPv6.15.14//NONSGML v1.0//EN
CALSCALE:GREGORIAN
METHOD:PUBLISH
X-ORIGINAL-URL:https://carnabyriseps.wa.edu.au
X-WR-CALDESC:Events for Carnaby Rise Primary School
REFRESH-INTERVAL;VALUE=DURATION:PT1H
X-Robots-Tag:noindex
X-PUBLISHED-TTL:PT1H
BEGIN:VTIMEZONE
TZID:Australia/Perth
BEGIN:STANDARD
TZOFFSETFROM:+0800
TZOFFSETTO:+0800
TZNAME:AWST
DTSTART:20230101T000000
END:STANDARD
END:VTIMEZONE
BEGIN:VEVENT
DTSTART;VALUE=DATE:20240813
DTEND;VALUE=DATE:20240814
DTSTAMP:20260422T223127
CREATED:20240717T052948Z
LAST-MODIFIED:20240717T052948Z
UID:1954-1723507200-1723593599@carnabyriseps.wa.edu.au
SUMMARY:Species Survival Incursion
DESCRIPTION:
URL:https://carnabyriseps.wa.edu.au/event/species-survival-incursion/
CATEGORIES:Incursions/Excursion
END:VEVENT
END:VCALENDAR