BEGIN:VCALENDAR
VERSION:2.0
PRODID:-//Carnaby Rise Primary School - ECPv6.15.14//NONSGML v1.0//EN
CALSCALE:GREGORIAN
METHOD:PUBLISH
X-WR-CALNAME:Carnaby Rise Primary School
X-ORIGINAL-URL:https://carnabyriseps.wa.edu.au
X-WR-CALDESC:Events for Carnaby Rise Primary School
REFRESH-INTERVAL;VALUE=DURATION:PT1H
X-Robots-Tag:noindex
X-PUBLISHED-TTL:PT1H
BEGIN:VTIMEZONE
TZID:Australia/Perth
BEGIN:STANDARD
TZOFFSETFROM:+0800
TZOFFSETTO:+0800
TZNAME:AWST
DTSTART:20230101T000000
END:STANDARD
END:VTIMEZONE
BEGIN:VEVENT
DTSTART;VALUE=DATE:20240510
DTEND;VALUE=DATE:20240511
DTSTAMP:20260423T033044
CREATED:20240321T235332Z
LAST-MODIFIED:20240321T235332Z
UID:1864-1715299200-1715385599@carnabyriseps.wa.edu.au
SUMMARY:Mother’s Day Stall Cash
DESCRIPTION:
URL:https://carnabyriseps.wa.edu.au/event/mothers-day-stall-cash/
CATEGORIES:School Events
END:VEVENT
END:VCALENDAR