BEGIN:VCALENDAR
VERSION:2.0
PRODID:-//Carnaby Rise Primary School - ECPv6.15.14//NONSGML v1.0//EN
CALSCALE:GREGORIAN
METHOD:PUBLISH
X-WR-CALNAME:Carnaby Rise Primary School
X-ORIGINAL-URL:https://carnabyriseps.wa.edu.au
X-WR-CALDESC:Events for Carnaby Rise Primary School
REFRESH-INTERVAL;VALUE=DURATION:PT1H
X-Robots-Tag:noindex
X-PUBLISHED-TTL:PT1H
BEGIN:VTIMEZONE
TZID:Australia/Perth
BEGIN:STANDARD
TZOFFSETFROM:+0800
TZOFFSETTO:+0800
TZNAME:AWST
DTSTART:20230101T000000
END:STANDARD
END:VTIMEZONE
BEGIN:VEVENT
DTSTART;VALUE=DATE:20240311
DTEND;VALUE=DATE:20240326
DTSTAMP:20260423T065244
CREATED:20240207T113241Z
LAST-MODIFIED:20240207T113241Z
UID:1812-1710115200-1711411199@carnabyriseps.wa.edu.au
SUMMARY:NAPLAN
DESCRIPTION:
URL:https://carnabyriseps.wa.edu.au/event/naplan-2/
CATEGORIES:School Events
END:VEVENT
BEGIN:VEVENT
DTSTART;TZID=Australia/Perth:20240318T120000
DTEND;TZID=Australia/Perth:20240322T124500
DTSTAMP:20260423T065244
CREATED:20231219T111634Z
LAST-MODIFIED:20231219T111634Z
UID:1746-1710763200-1711111500@carnabyriseps.wa.edu.au
SUMMARY:Year 2 - 4 Swimming
DESCRIPTION:
URL:https://carnabyriseps.wa.edu.au/event/year-2-4-swimming-2/
CATEGORIES:School Events
END:VEVENT
BEGIN:VEVENT
DTSTART;TZID=Australia/Perth:20240318T120000
DTEND;TZID=Australia/Perth:20240322T124500
DTSTAMP:20260423T065244
CREATED:20240216T025632Z
LAST-MODIFIED:20240216T031420Z
UID:1833-1710763200-1711111500@carnabyriseps.wa.edu.au
SUMMARY:Year 6 Beach Swimming
DESCRIPTION:
URL:https://carnabyriseps.wa.edu.au/event/year-6-beach-swimming/
CATEGORIES:School Events
END:VEVENT
END:VCALENDAR