BEGIN:VCALENDAR
VERSION:2.0
PRODID:-//Carnaby Rise Primary School - ECPv6.15.14//NONSGML v1.0//EN
CALSCALE:GREGORIAN
METHOD:PUBLISH
X-WR-CALNAME:Carnaby Rise Primary School
X-ORIGINAL-URL:https://carnabyriseps.wa.edu.au
X-WR-CALDESC:Events for Carnaby Rise Primary School
REFRESH-INTERVAL;VALUE=DURATION:PT1H
X-Robots-Tag:noindex
X-PUBLISHED-TTL:PT1H
BEGIN:VTIMEZONE
TZID:Australia/Perth
BEGIN:STANDARD
TZOFFSETFROM:+0800
TZOFFSETTO:+0800
TZNAME:AWST
DTSTART:20230101T000000
END:STANDARD
END:VTIMEZONE
BEGIN:VEVENT
DTSTART;VALUE=DATE:20240306
DTEND;VALUE=DATE:20240307
DTSTAMP:20260423T065247
CREATED:20240207T113151Z
LAST-MODIFIED:20240216T031729Z
UID:1808-1709683200-1709769599@carnabyriseps.wa.edu.au
SUMMARY:Assembly – Host Year 5 Rm 18
DESCRIPTION:
URL:https://carnabyriseps.wa.edu.au/event/assembly-host-year-5-rm-18/
CATEGORIES:Assembly
END:VEVENT
END:VCALENDAR