BEGIN:VCALENDAR
VERSION:2.0
PRODID:-//Carnaby Rise Primary School - ECPv6.15.14//NONSGML v1.0//EN
CALSCALE:GREGORIAN
METHOD:PUBLISH
X-ORIGINAL-URL:https://carnabyriseps.wa.edu.au
X-WR-CALDESC:Events for Carnaby Rise Primary School
REFRESH-INTERVAL;VALUE=DURATION:PT1H
X-Robots-Tag:noindex
X-PUBLISHED-TTL:PT1H
BEGIN:VTIMEZONE
TZID:Australia/Perth
BEGIN:STANDARD
TZOFFSETFROM:+0800
TZOFFSETTO:+0800
TZNAME:AWST
DTSTART:20220101T000000
END:STANDARD
END:VTIMEZONE
BEGIN:VEVENT
DTSTART;VALUE=DATE:20231106
DTEND;VALUE=DATE:20231125
DTSTAMP:20260423T145141
CREATED:20231103T032228Z
LAST-MODIFIED:20231103T065146Z
UID:1593-1699228800-1700870399@carnabyriseps.wa.edu.au
SUMMARY:Mayors Christmas Appeal
DESCRIPTION:The City of Wanneroo Mayor’s Christmas Appeal for 2023 has commenced and Carnaby Rise is collecting donations. \nIf you would like to contribute to this worthy cause\, your donations can be placed in the bins provided in the ECE area and at the gates near kiss and drive. \nThis year the appeal is requesting non-perishable food items and new toy donations that will be distributed to members of our community doing it tough. \nExamples; \n\nCanned foods – fruits\, tuna\, salmon\, soups\, beans\nPasta and pasta sauces\nRice\nCoffee\, Tea & Milo\nBiscuits and crackers – sweet and savoury\nLong life custard and milks\nCereals\nChristmas treats\nToiletries\nNew toys\n\nThe appeal will run until Friday 24th November. \n 
URL:https://carnabyriseps.wa.edu.au/event/mayors-christmas-appeal/
CATEGORIES:School Events
END:VEVENT
BEGIN:VEVENT
DTSTART;VALUE=DATE:20231114
DTEND;VALUE=DATE:20231115
DTSTAMP:20260423T145141
CREATED:20231020T043750Z
LAST-MODIFIED:20231020T043750Z
UID:1534-1699920000-1700006399@carnabyriseps.wa.edu.au
SUMMARY:P&C Meeting
DESCRIPTION:
URL:https://carnabyriseps.wa.edu.au/event/pc-meeting-3/
CATEGORIES:P&C and Board Meetings
END:VEVENT
END:VCALENDAR