BEGIN:VCALENDAR
VERSION:2.0
PRODID:-//Carnaby Rise Primary School - ECPv6.15.14//NONSGML v1.0//EN
CALSCALE:GREGORIAN
METHOD:PUBLISH
X-ORIGINAL-URL:https://carnabyriseps.wa.edu.au
X-WR-CALDESC:Events for Carnaby Rise Primary School
REFRESH-INTERVAL;VALUE=DURATION:PT1H
X-Robots-Tag:noindex
X-PUBLISHED-TTL:PT1H
BEGIN:VTIMEZONE
TZID:Australia/Perth
BEGIN:STANDARD
TZOFFSETFROM:+0800
TZOFFSETTO:+0800
TZNAME:AWST
DTSTART:20220101T000000
END:STANDARD
END:VTIMEZONE
BEGIN:VEVENT
DTSTART;TZID=Australia/Perth:20231102T080000
DTEND;TZID=Australia/Perth:20231102T170000
DTSTAMP:20260423T145139
CREATED:20230921T102609Z
LAST-MODIFIED:20230921T102609Z
UID:1462-1698912000-1698944400@carnabyriseps.wa.edu.au
SUMMARY:Year 6 Excursion to Parliament House
DESCRIPTION:
URL:https://carnabyriseps.wa.edu.au/event/year-6-excursion-to-parliament-house/
CATEGORIES:Incursions/Excursion
END:VEVENT
END:VCALENDAR