BEGIN:VCALENDAR
VERSION:2.0
PRODID:-//Carnaby Rise Primary School - ECPv6.15.14//NONSGML v1.0//EN
CALSCALE:GREGORIAN
METHOD:PUBLISH
X-ORIGINAL-URL:https://carnabyriseps.wa.edu.au
X-WR-CALDESC:Events for Carnaby Rise Primary School
REFRESH-INTERVAL;VALUE=DURATION:PT1H
X-Robots-Tag:noindex
X-PUBLISHED-TTL:PT1H
BEGIN:VTIMEZONE
TZID:Australia/Perth
BEGIN:STANDARD
TZOFFSETFROM:+0800
TZOFFSETTO:+0800
TZNAME:AWST
DTSTART:20220101T000000
END:STANDARD
END:VTIMEZONE
BEGIN:VEVENT
DTSTART;VALUE=DATE:20231018
DTEND;VALUE=DATE:20231019
DTSTAMP:20260424T080357
CREATED:20230921T102010Z
LAST-MODIFIED:20230921T102010Z
UID:1440-1697587200-1697673599@carnabyriseps.wa.edu.au
SUMMARY:2024 Kindy Induction Play & Stay info session
DESCRIPTION:
URL:https://carnabyriseps.wa.edu.au/event/2024-kindy-induction-play-stay-info-session/
CATEGORIES:School Events
END:VEVENT
BEGIN:VEVENT
DTSTART;TZID=Australia/Perth:20231018T134500
DTEND;TZID=Australia/Perth:20231018T150000
DTSTAMP:20260424T080357
CREATED:20230921T101948Z
LAST-MODIFIED:20230921T101948Z
UID:1438-1697636700-1697641200@carnabyriseps.wa.edu.au
SUMMARY:Australian Girls Choir Workshop – 1.45pm
DESCRIPTION:
URL:https://carnabyriseps.wa.edu.au/event/australian-girls-choir-workshop-1-45pm/
CATEGORIES:School Events
END:VEVENT
BEGIN:VEVENT
DTSTART;TZID=Australia/Perth:20231018T135500
DTEND;TZID=Australia/Perth:20231018T150000
DTSTAMP:20260424T080357
CREATED:20230921T102049Z
LAST-MODIFIED:20230921T102049Z
UID:1442-1697637300-1697641200@carnabyriseps.wa.edu.au
SUMMARY:Year 3-6 Assembly\, Hosted by Yr 5 – Rm 20 – 1.55pm
DESCRIPTION:
URL:https://carnabyriseps.wa.edu.au/event/year-3-6-assembly-hosted-by-yr-5-rm-20-1-55pm/
CATEGORIES:Assembly
END:VEVENT
END:VCALENDAR