BEGIN:VCALENDAR
VERSION:2.0
PRODID:-//Carnaby Rise Primary School - ECPv6.15.14//NONSGML v1.0//EN
CALSCALE:GREGORIAN
METHOD:PUBLISH
X-ORIGINAL-URL:https://carnabyriseps.wa.edu.au
X-WR-CALDESC:Events for Carnaby Rise Primary School
REFRESH-INTERVAL;VALUE=DURATION:PT1H
X-Robots-Tag:noindex
X-PUBLISHED-TTL:PT1H
BEGIN:VTIMEZONE
TZID:Australia/Perth
BEGIN:STANDARD
TZOFFSETFROM:+0800
TZOFFSETTO:+0800
TZNAME:AWST
DTSTART:20220101T000000
END:STANDARD
END:VTIMEZONE
BEGIN:VEVENT
DTSTART;VALUE=DATE:20231013
DTEND;VALUE=DATE:20231014
DTSTAMP:20260424T153539
CREATED:20230921T101649Z
LAST-MODIFIED:20230921T101649Z
UID:1429-1697155200-1697241599@carnabyriseps.wa.edu.au
SUMMARY:Year 4 Excursion – Perth Zoo
DESCRIPTION:
URL:https://carnabyriseps.wa.edu.au/event/year-4-excursion-perth-zoo/
CATEGORIES:Incursions/Excursion
END:VEVENT
END:VCALENDAR