BEGIN:VCALENDAR
VERSION:2.0
PRODID:-//Carnaby Rise Primary School - ECPv6.15.14//NONSGML v1.0//EN
CALSCALE:GREGORIAN
METHOD:PUBLISH
X-WR-CALNAME:Carnaby Rise Primary School
X-ORIGINAL-URL:https://carnabyriseps.wa.edu.au
X-WR-CALDESC:Events for Carnaby Rise Primary School
REFRESH-INTERVAL;VALUE=DURATION:PT1H
X-Robots-Tag:noindex
X-PUBLISHED-TTL:PT1H
BEGIN:VTIMEZONE
TZID:Australia/Perth
BEGIN:STANDARD
TZOFFSETFROM:+0800
TZOFFSETTO:+0800
TZNAME:AWST
DTSTART:20220101T000000
END:STANDARD
END:VTIMEZONE
BEGIN:VEVENT
DTSTART;VALUE=DATE:20230508
DTEND;VALUE=DATE:20230909
DTSTAMP:20260425T204941
CREATED:20230509T023552Z
LAST-MODIFIED:20230509T023604Z
UID:748-1683504000-1694217599@carnabyriseps.wa.edu.au
SUMMARY:Premier's Reading Challenge
DESCRIPTION:
URL:https://carnabyriseps.wa.edu.au/event/premiers-reading-challenge/
CATEGORIES:School Events
END:VEVENT
BEGIN:VEVENT
DTSTART;VALUE=DATE:20230622
DTEND;VALUE=DATE:20230623
DTSTAMP:20260425T204941
CREATED:20230509T030819Z
LAST-MODIFIED:20230509T035243Z
UID:782-1687392000-1687478399@carnabyriseps.wa.edu.au
SUMMARY:Year 3 and Room 6 Incursion (Remida)
DESCRIPTION:
URL:https://carnabyriseps.wa.edu.au/event/year-3-and-room-6-incursion-remida/
CATEGORIES:Incursions/Excursion
END:VEVENT
BEGIN:VEVENT
DTSTART;VALUE=DATE:20230622
DTEND;VALUE=DATE:20230623
DTSTAMP:20260425T204941
CREATED:20230509T030846Z
LAST-MODIFIED:20230509T030846Z
UID:784-1687392000-1687478399@carnabyriseps.wa.edu.au
SUMMARY:Year 2 Excursion
DESCRIPTION:
URL:https://carnabyriseps.wa.edu.au/event/year-2-excursion/
CATEGORIES:Incursions/Excursion
END:VEVENT
END:VCALENDAR