BEGIN:VCALENDAR
VERSION:2.0
PRODID:-//Carnaby Rise Primary School - ECPv6.15.14//NONSGML v1.0//EN
CALSCALE:GREGORIAN
METHOD:PUBLISH
X-WR-CALNAME:Carnaby Rise Primary School
X-ORIGINAL-URL:https://carnabyriseps.wa.edu.au
X-WR-CALDESC:Events for Carnaby Rise Primary School
REFRESH-INTERVAL;VALUE=DURATION:PT1H
X-Robots-Tag:noindex
X-PUBLISHED-TTL:PT1H
BEGIN:VTIMEZONE
TZID:Australia/Perth
BEGIN:STANDARD
TZOFFSETFROM:+0800
TZOFFSETTO:+0800
TZNAME:AWST
DTSTART:20220101T000000
END:STANDARD
END:VTIMEZONE
BEGIN:VEVENT
DTSTART;VALUE=DATE:20230508
DTEND;VALUE=DATE:20230909
DTSTAMP:20260425T205106
CREATED:20230509T023552Z
LAST-MODIFIED:20230509T023604Z
UID:748-1683504000-1694217599@carnabyriseps.wa.edu.au
SUMMARY:Premier's Reading Challenge
DESCRIPTION:
URL:https://carnabyriseps.wa.edu.au/event/premiers-reading-challenge/
CATEGORIES:School Events
END:VEVENT
BEGIN:VEVENT
DTSTART;TZID=Australia/Perth:20230613T090000
DTEND;TZID=Australia/Perth:20230615T100000
DTSTAMP:20260425T205106
CREATED:20230517T062652Z
LAST-MODIFIED:20230517T062652Z
UID:842-1686646800-1686823200@carnabyriseps.wa.edu.au
SUMMARY:Kindy & PP Lap-A-thon
DESCRIPTION:Tues 13th June  Kindy A & B \nWed 14th June PP all classes \nThurs 15th June Kindy C & D \nThe event will run each day between 9.00 – 10.00am.
URL:https://carnabyriseps.wa.edu.au/event/kindy-pp-lap-a-thon/
CATEGORIES:Incursions/Excursion
END:VEVENT
BEGIN:VEVENT
DTSTART;VALUE=DATE:20230614
DTEND;VALUE=DATE:20230615
DTSTAMP:20260425T205106
CREATED:20230606T091217Z
LAST-MODIFIED:20230606T091217Z
UID:959-1686700800-1686787199@carnabyriseps.wa.edu.au
SUMMARY:3-6 Assembly Yr 3 Rm ¾
DESCRIPTION:
URL:https://carnabyriseps.wa.edu.au/event/3-6-assembly-yr-3-rm-%c2%be/
CATEGORIES:Assembly
END:VEVENT
END:VCALENDAR